BEGIN:VCALENDAR
VERSION:2.0
PRODID:-//Wegene Ethiopian Foundation - ECPv6.15.20//NONSGML v1.0//EN
CALSCALE:GREGORIAN
METHOD:PUBLISH
X-WR-CALNAME:Wegene Ethiopian Foundation
X-ORIGINAL-URL:https://www.wegene.org
X-WR-CALDESC:Events for Wegene Ethiopian Foundation
REFRESH-INTERVAL;VALUE=DURATION:PT1H
X-Robots-Tag:noindex
X-PUBLISHED-TTL:PT1H
BEGIN:VTIMEZONE
TZID:UTC
BEGIN:STANDARD
TZOFFSETFROM:+0000
TZOFFSETTO:+0000
TZNAME:UTC
DTSTART:20200101T000000
END:STANDARD
END:VTIMEZONE
BEGIN:VTIMEZONE
TZID:America/Halifax
BEGIN:DAYLIGHT
TZOFFSETFROM:-0400
TZOFFSETTO:-0300
TZNAME:ADT
DTSTART:20200308T060000
END:DAYLIGHT
BEGIN:STANDARD
TZOFFSETFROM:-0300
TZOFFSETTO:-0400
TZNAME:AST
DTSTART:20201101T050000
END:STANDARD
BEGIN:DAYLIGHT
TZOFFSETFROM:-0400
TZOFFSETTO:-0300
TZNAME:ADT
DTSTART:20210314T060000
END:DAYLIGHT
BEGIN:STANDARD
TZOFFSETFROM:-0300
TZOFFSETTO:-0400
TZNAME:AST
DTSTART:20211107T050000
END:STANDARD
BEGIN:DAYLIGHT
TZOFFSETFROM:-0400
TZOFFSETTO:-0300
TZNAME:ADT
DTSTART:20220313T060000
END:DAYLIGHT
BEGIN:STANDARD
TZOFFSETFROM:-0300
TZOFFSETTO:-0400
TZNAME:AST
DTSTART:20221106T050000
END:STANDARD
BEGIN:DAYLIGHT
TZOFFSETFROM:-0400
TZOFFSETTO:-0300
TZNAME:ADT
DTSTART:20230312T060000
END:DAYLIGHT
BEGIN:STANDARD
TZOFFSETFROM:-0300
TZOFFSETTO:-0400
TZNAME:AST
DTSTART:20231105T050000
END:STANDARD
BEGIN:DAYLIGHT
TZOFFSETFROM:-0400
TZOFFSETTO:-0300
TZNAME:ADT
DTSTART:20240310T060000
END:DAYLIGHT
BEGIN:STANDARD
TZOFFSETFROM:-0300
TZOFFSETTO:-0400
TZNAME:AST
DTSTART:20241103T050000
END:STANDARD
BEGIN:DAYLIGHT
TZOFFSETFROM:-0400
TZOFFSETTO:-0300
TZNAME:ADT
DTSTART:20250309T060000
END:DAYLIGHT
BEGIN:STANDARD
TZOFFSETFROM:-0300
TZOFFSETTO:-0400
TZNAME:AST
DTSTART:20251102T050000
END:STANDARD
BEGIN:DAYLIGHT
TZOFFSETFROM:-0400
TZOFFSETTO:-0300
TZNAME:ADT
DTSTART:20260308T060000
END:DAYLIGHT
BEGIN:STANDARD
TZOFFSETFROM:-0300
TZOFFSETTO:-0400
TZNAME:AST
DTSTART:20261101T050000
END:STANDARD
END:VTIMEZONE
BEGIN:VTIMEZONE
TZID:America/New_York
BEGIN:DAYLIGHT
TZOFFSETFROM:-0500
TZOFFSETTO:-0400
TZNAME:EDT
DTSTART:20200308T070000
END:DAYLIGHT
BEGIN:STANDARD
TZOFFSETFROM:-0400
TZOFFSETTO:-0500
TZNAME:EST
DTSTART:20201101T060000
END:STANDARD
BEGIN:DAYLIGHT
TZOFFSETFROM:-0500
TZOFFSETTO:-0400
TZNAME:EDT
DTSTART:20210314T070000
END:DAYLIGHT
BEGIN:STANDARD
TZOFFSETFROM:-0400
TZOFFSETTO:-0500
TZNAME:EST
DTSTART:20211107T060000
END:STANDARD
BEGIN:DAYLIGHT
TZOFFSETFROM:-0500
TZOFFSETTO:-0400
TZNAME:EDT
DTSTART:20220313T070000
END:DAYLIGHT
BEGIN:STANDARD
TZOFFSETFROM:-0400
TZOFFSETTO:-0500
TZNAME:EST
DTSTART:20221106T060000
END:STANDARD
BEGIN:DAYLIGHT
TZOFFSETFROM:-0500
TZOFFSETTO:-0400
TZNAME:EDT
DTSTART:20230312T070000
END:DAYLIGHT
BEGIN:STANDARD
TZOFFSETFROM:-0400
TZOFFSETTO:-0500
TZNAME:EST
DTSTART:20231105T060000
END:STANDARD
BEGIN:DAYLIGHT
TZOFFSETFROM:-0500
TZOFFSETTO:-0400
TZNAME:EDT
DTSTART:20240310T070000
END:DAYLIGHT
BEGIN:STANDARD
TZOFFSETFROM:-0400
TZOFFSETTO:-0500
TZNAME:EST
DTSTART:20241103T060000
END:STANDARD
BEGIN:DAYLIGHT
TZOFFSETFROM:-0500
TZOFFSETTO:-0400
TZNAME:EDT
DTSTART:20250309T070000
END:DAYLIGHT
BEGIN:STANDARD
TZOFFSETFROM:-0400
TZOFFSETTO:-0500
TZNAME:EST
DTSTART:20251102T060000
END:STANDARD
END:VTIMEZONE
BEGIN:VEVENT
DTSTART;TZID=UTC:20251011T080000
DTEND;TZID=UTC:20251011T170000
DTSTAMP:20260424T002108
CREATED:20250819T203830Z
LAST-MODIFIED:20250820T154206Z
UID:1862-1760169600-1760202000@www.wegene.org
SUMMARY:7th Annual Grand Africa Run
DESCRIPTION:  \n\n\nhttps://www.wegene.org/wp-content/uploads/2025/08/WhatsApp-Video-2025-08-19-at-05.18.00_0a7974b6-1.mp4\n  \nWegene Ethiopian Foundation is honored to be selected as one of the 10 official charity partners for the 7th Annual Grand Africa Run! On October 11\, 2025\, in Alexandria\, Virginia\, runners from across the world will come together not just for fitness\, but for impact — under the motto “More than a Run.” By joining this amazing event\, you can support Wegene’s mission of fighting poverty and empowering Ethiopian families through education\, health\, and economic opportunities. \n\n\n\n\n\n\n\n Turn your run into a force for good!\n Fundraise with Wegene through the peer-to-peer campaign.\n Together\, let’s create lasting change for generations to come.\n\n\n\n\n Save the Date: October 11\, 2025\n Location: Alexandria\, Virginia
URL:https://www.wegene.org/event/7th-annual-grand-africa-run/
ATTACH;FMTTYPE=image/png:https://www.wegene.org/wp-content/uploads/2025/08/vlcsnap-2025-08-19-23h36m20s682.png
END:VEVENT
BEGIN:VEVENT
DTSTART;TZID=UTC:20250831T170000
DTEND;TZID=UTC:20250831T200000
DTSTAMP:20260424T002109
CREATED:20250819T194925Z
LAST-MODIFIED:20250819T195951Z
UID:1846-1756659600-1756670400@www.wegene.org
SUMMARY:African Community Service Award
DESCRIPTION:Dear Wegene Family\, \nWe’re excited to continue our 25th Anniversary celebrations with another moment of honor! 🎊Wegene has been nominated as a finalist for the African Community Service Award\, happening on Sunday\, August 31\, 2025. \nThis recognition is a celebration of you—our devoted community of supporters who have stood with us for 25 years. Together\, we’ve built a legacy of compassion and empowerment\, transforming lives one child and one family at a time. \nWe invite you to join us in this joyful celebration as we honor everything we’ve built together. \nWith deep appreciation\,Wegene Ethiopian Foundation
URL:https://www.wegene.org/event/african-community-service-award/
LOCATION:Hilton Alexandria Mark Hotel\, 5000 Seminary road Alexandria va\, Alexandria\, VA\, 22311\, United States
ATTACH;FMTTYPE=image/jpeg:https://www.wegene.org/wp-content/uploads/2025/08/528951974_1167791628708019_187288353739785054_n.jpg
END:VEVENT
BEGIN:VEVENT
DTSTART;TZID=UTC:20250830T150000
DTEND;TZID=UTC:20250830T180000
DTSTAMP:20260424T002109
CREATED:20250819T194422Z
LAST-MODIFIED:20250819T195926Z
UID:1842-1756566000-1756576800@www.wegene.org
SUMMARY:9th Araya Sew Award
DESCRIPTION:Dear Wegene Family\, \nWe are thrilled to share a proud milestone with you! 🎉In honor of our 25th Anniversary\, Wegene has been nominated as a finalist for the 9th Araya Sew Award\, taking place on Saturday\, August 30\, 2025. \nThis recognition is not just ours it belongs to you\, our incredible supporters. For 25 years\, your trust\, generosity\, and belief in our mission have fueled a journey rooted in compassion\, integrity\, and impact empowering one child and one family at a time. \nThank you for being the heart of Wegene. We look forward to celebrating this special achievement together. \nWith gratitude\,Wegene Ethiopian Foundation
URL:https://www.wegene.org/event/9th-araya-sew-award/
LOCATION:parish hall 9350 Braddock Dr Burke VA 22015\, Parish Hall 9350 Braddock\, Burke\, 22015\, United States
ATTACH;FMTTYPE=image/jpeg:https://www.wegene.org/wp-content/uploads/2025/08/529248055_1167791708708011_5368307214146154907_n.jpg
END:VEVENT
BEGIN:VEVENT
DTSTART;TZID=America/Halifax:20250518T140000
DTEND;TZID=America/Halifax:20250518T180000
DTSTAMP:20260424T002109
CREATED:20250507T183827Z
LAST-MODIFIED:20250509T142427Z
UID:1573-1747576800-1747591200@www.wegene.org
SUMMARY:WYC Spring Picnic
DESCRIPTION:Activities & Highlights:\n\n\nPottery-making activities by Nu Chika Enabuka (ኑ ጭቃ እናቡካ) \n\n\nTraditional cotton spinning demonstrations (hands-on participation!) by Nu Chika Enabuka \n\n\nProfessional face painting with a Habesha touch by Nu Chika Enabuka \n\n\nMusic\, games & activities \n\n\nDelicious snacks and refreshments \n\n\nOpen Mic Poetry \n\n\nGreat networking opportunities \n\n\nA chance to meet the new leader and celebrate graduating seniors
URL:https://www.wegene.org/event/wyc-spring-picnic/
LOCATION:Brookfield Park 7417 Floyd Avenue Springfield\, VA\, 22151\, Brookfield Park 7417 Floyd Avenue Springfield\, VA\, 22151\, Springfield\, VA\, 7417\, United States
END:VEVENT
BEGIN:VEVENT
DTSTART;TZID=America/New_York:20241019T183000
DTEND;TZID=America/New_York:20241020T010000
DTSTAMP:20260424T002109
CREATED:20240730T222730Z
LAST-MODIFIED:20240812T195237Z
UID:1535-1729362600-1729386000@www.wegene.org
SUMMARY:Annual Gala Dinner
DESCRIPTION:Buy Tickets Here \n \nBuy Tickets Here
URL:https://www.wegene.org/event/annual-gala-dinner/
END:VEVENT
BEGIN:VEVENT
DTSTART;TZID=America/New_York:20241012T090000
DTEND;TZID=America/New_York:20241012T120000
DTSTAMP:20260424T002109
CREATED:20240806T183347Z
LAST-MODIFIED:20240806T183347Z
UID:1541-1728723600-1728734400@www.wegene.org
SUMMARY:Grand Africa Run 2024
DESCRIPTION:Register here \n  \n \n  \n \n  \nRegister here
URL:https://www.wegene.org/event/grand-africa-run-2024/
END:VEVENT
BEGIN:VEVENT
DTSTART;TZID=America/New_York:20240527T160000
DTEND;TZID=America/New_York:20240527T180000
DTSTAMP:20260424T002109
CREATED:20240426T221508Z
LAST-MODIFIED:20240429T150519Z
UID:1482-1716825600-1716832800@www.wegene.org
SUMMARY:Eshetu Melese "Man Ende Hager"
DESCRIPTION:Buy Tickets Here
URL:https://www.wegene.org/event/eshetu-melese/
END:VEVENT
BEGIN:VEVENT
DTSTART;TZID=America/New_York:20240217T180000
DTEND;TZID=America/New_York:20240217T230000
DTSTAMP:20260424T002109
CREATED:20240130T171704Z
LAST-MODIFIED:20240130T171728Z
UID:1469-1708192800-1708210800@www.wegene.org
SUMMARY:WYC February High School Formal
DESCRIPTION:Buy Tickets \n \nBuy Tickets
URL:https://www.wegene.org/event/wyc-february-high-school-formal/
END:VEVENT
BEGIN:VEVENT
DTSTART;TZID=America/New_York:20231021T183000
DTEND;TZID=America/New_York:20231022T010000
DTSTAMP:20260424T002109
CREATED:20230908T134128Z
LAST-MODIFIED:20231011T133040Z
UID:1389-1697913000-1697936400@www.wegene.org
SUMMARY:Wegene 23rd Anniversary Gala
DESCRIPTION:Purchase Tickets
URL:https://www.wegene.org/event/wegene-24th-anniversary-gala/
END:VEVENT
BEGIN:VEVENT
DTSTART;TZID=America/New_York:20230422T173000
DTEND;TZID=America/New_York:20230422T223000
DTSTAMP:20260424T002109
CREATED:20230317T134205Z
LAST-MODIFIED:20230317T164936Z
UID:1353-1682184600-1682202600@www.wegene.org
SUMMARY:A Night of Compassion - 23rd Anniversary Dinner
DESCRIPTION:
URL:https://www.wegene.org/event/a-night-of-compassion-23rd-anniversary-dinner/
END:VEVENT
BEGIN:VEVENT
DTSTART;TZID=America/New_York:20230218T183000
DTEND;TZID=America/New_York:20230218T230000
DTSTAMP:20260424T002109
CREATED:20230209T150646Z
LAST-MODIFIED:20230209T151055Z
UID:1336-1676745000-1676761200@www.wegene.org
SUMMARY:Wegene Youth Club Fundraising High School Formal
DESCRIPTION:Donate & Tickets Here \n \n  \nDonate & Tickets Here
URL:https://www.wegene.org/event/wegene-youth-club-fundraising-high-school-formal/
LOCATION:St. Luke Orthodox Church\, 6801 Georgetown Pike\, McLean\, VA\, 22101\, United States
END:VEVENT
BEGIN:VEVENT
DTSTART;TZID=America/New_York:20220430T190000
DTEND;TZID=America/New_York:20220501T010000
DTSTAMP:20260424T002109
CREATED:20220202T201807Z
LAST-MODIFIED:20220208T123813Z
UID:1094-1651345200-1651366800@www.wegene.org
SUMMARY:Fundraising for Ethiopia
DESCRIPTION:Buy Tickets \n \nBuy Tickets
URL:https://www.wegene.org/event/fundraising-for-ethiopia/
LOCATION:The Waterford\, 6715 Commerce Street\, Springfield\, VA\, 22150\, United States
END:VEVENT
BEGIN:VEVENT
DTSTART;TZID=America/New_York:20211218T110000
DTEND;TZID=America/New_York:20211218T123000
DTSTAMP:20260424T002109
CREATED:20211207T220822Z
LAST-MODIFIED:20211207T222347Z
UID:1059-1639825200-1639830600@www.wegene.org
SUMMARY:Wegene Youth Club: Holiday Magic
DESCRIPTION:Buy Tickets \n \nBuy Tickets
URL:https://www.wegene.org/event/wegene-youth-club-holiday-magic/
END:VEVENT
BEGIN:VEVENT
DTSTART;VALUE=DATE:20211130
DTEND;VALUE=DATE:20211201
DTSTAMP:20260424T002109
CREATED:20211119T152534Z
LAST-MODIFIED:20211119T153036Z
UID:1046-1638230400-1638316799@www.wegene.org
SUMMARY:Giving Tuesday
DESCRIPTION:Donate \n \nDonate
URL:https://www.wegene.org/event/giving-tuesday/
END:VEVENT
BEGIN:VEVENT
DTSTART;TZID=America/Halifax:20211023T190000
DTEND;TZID=America/Halifax:20211024T010000
DTSTAMP:20260424T002109
CREATED:20210907T185604Z
LAST-MODIFIED:20211019T154523Z
UID:950-1635015600-1635037200@www.wegene.org
SUMMARY:21st Anniversary Gala - A Night of Inspiration
DESCRIPTION:Purchase Tickets
URL:https://www.wegene.org/event/21st-anniversary-gala-a-night-of-inspiration/
ATTACH;FMTTYPE=image/jpeg:https://www.wegene.org/wp-content/uploads/2021/09/IMG_3124.jpg
END:VEVENT
END:VCALENDAR