BEGIN:VCALENDAR
VERSION:2.0
PRODID:-//Wegene Ethiopian Foundation - ECPv6.15.20//NONSGML v1.0//EN
CALSCALE:GREGORIAN
METHOD:PUBLISH
X-WR-CALNAME:Wegene Ethiopian Foundation
X-ORIGINAL-URL:https://www.wegene.org
X-WR-CALDESC:Events for Wegene Ethiopian Foundation
REFRESH-INTERVAL;VALUE=DURATION:PT1H
X-Robots-Tag:noindex
X-PUBLISHED-TTL:PT1H
BEGIN:VTIMEZONE
TZID:UTC
BEGIN:STANDARD
TZOFFSETFROM:+0000
TZOFFSETTO:+0000
TZNAME:UTC
DTSTART:20200101T000000
END:STANDARD
END:VTIMEZONE
BEGIN:VTIMEZONE
TZID:America/Halifax
BEGIN:DAYLIGHT
TZOFFSETFROM:-0400
TZOFFSETTO:-0300
TZNAME:ADT
DTSTART:20200308T060000
END:DAYLIGHT
BEGIN:STANDARD
TZOFFSETFROM:-0300
TZOFFSETTO:-0400
TZNAME:AST
DTSTART:20201101T050000
END:STANDARD
BEGIN:DAYLIGHT
TZOFFSETFROM:-0400
TZOFFSETTO:-0300
TZNAME:ADT
DTSTART:20210314T060000
END:DAYLIGHT
BEGIN:STANDARD
TZOFFSETFROM:-0300
TZOFFSETTO:-0400
TZNAME:AST
DTSTART:20211107T050000
END:STANDARD
BEGIN:DAYLIGHT
TZOFFSETFROM:-0400
TZOFFSETTO:-0300
TZNAME:ADT
DTSTART:20220313T060000
END:DAYLIGHT
BEGIN:STANDARD
TZOFFSETFROM:-0300
TZOFFSETTO:-0400
TZNAME:AST
DTSTART:20221106T050000
END:STANDARD
END:VTIMEZONE
BEGIN:VEVENT
DTSTART;VALUE=DATE:20211130
DTEND;VALUE=DATE:20211201
DTSTAMP:20260424T002027
CREATED:20211119T152534Z
LAST-MODIFIED:20211119T153036Z
UID:1046-1638230400-1638316799@www.wegene.org
SUMMARY:Giving Tuesday
DESCRIPTION:Donate \n \nDonate
URL:https://www.wegene.org/event/giving-tuesday/
END:VEVENT
BEGIN:VEVENT
DTSTART;TZID=America/Halifax:20211023T190000
DTEND;TZID=America/Halifax:20211024T010000
DTSTAMP:20260424T002027
CREATED:20210907T185604Z
LAST-MODIFIED:20211019T154523Z
UID:950-1635015600-1635037200@www.wegene.org
SUMMARY:21st Anniversary Gala - A Night of Inspiration
DESCRIPTION:Purchase Tickets
URL:https://www.wegene.org/event/21st-anniversary-gala-a-night-of-inspiration/
ATTACH;FMTTYPE=image/jpeg:https://www.wegene.org/wp-content/uploads/2021/09/IMG_3124.jpg
END:VEVENT
END:VCALENDAR